BEGIN:VCALENDAR
VERSION:2.0
PRODID:-//Планинарски клуб Раднички - ECPv6.15.15//NONSGML v1.0//EN
CALSCALE:GREGORIAN
METHOD:PUBLISH
X-ORIGINAL-URL:https://www.pk-radnicki.rs
X-WR-CALDESC:Events for Планинарски клуб Раднички
REFRESH-INTERVAL;VALUE=DURATION:PT1H
X-Robots-Tag:noindex
X-PUBLISHED-TTL:PT1H
BEGIN:VTIMEZONE
TZID:UTC
BEGIN:STANDARD
TZOFFSETFROM:+0000
TZOFFSETTO:+0000
TZNAME:UTC
DTSTART:20240101T000000
END:STANDARD
END:VTIMEZONE
BEGIN:VEVENT
DTSTART;VALUE=DATE:20250718
DTEND;VALUE=DATE:20250721
DTSTAMP:20260422T193524
CREATED:20250529T214906Z
LAST-MODIFIED:20250530T045703Z
UID:9953-1752796800-1753055999@www.pk-radnicki.rs
SUMMARY:СЛОВЕНИЈА – Јулијски Алпи
DESCRIPTION:Шкрлатица је са својих 2740м други највиши врх Словеније\, краљица уз краља Триглава. Ради се о изузетно атрактивном\, али и врло захтевном врху који\, за разлику од Триглава\, има знатно мање осигурања у виду клинова и сајли. За успон је\, поред добре кондиције\, потребно и доста претходног искуства\, као и максималан опрез. Разор (2601 м) спада у највише врхове и налази се у срцу Јулијских Алпа — неправедно је мање посећен од осталих врхова. \n\n					\n						\n\n					\n				\n					\n						\n\n					\n				\nВодичи: Бојан Миловановић (МБ 466)\, телефон: 064 1111 303\, е-пошта: bojanplaninar@gmail.com \nЦена превоза: 120 евра  \n(обухвата превоз са путаринама\, смештај и исхрану за возача) \n\nЦена ноћења: накнадно ће бити дефинисана након формирања групе и резервације смештаја (рачунати на цену од 45–60 € за два ноћења). \n\nДокумента: чланска картица са маркицом за 2025. годину\, пасош. \n\nПутно здравствено осигурање: обавезно – свако купује за себе. \n\nОпрема: кацига – обавезна (препорука: ферата сет и појас)\, дубоке планинарске ципеле\, јакна\, рукавице за сајлу\, прва помоћ\, чеона лампа\, шешир\, крема са заштитним фактором\, штапови… танка врећа за спавање или постељина/навлака. \nВода: нема извора у планини – понети минимум 3 литра воде за суботу. Увече се вода може купити у Погачниковом дому. \nХрана: из ранца или у Погачниковом дому у суботу увече. \nПријаве и инфо код водича. Учешће се потврђује уплатом 50% од укупног износа превоза. Инструкције за уплату ћете добити од водича\, након што вам потврди да има места за акцију. У случају одустајања наћи замену јер се новац не враћа. \nБрој учесника је ограничен. \n\n\n					\n						\n\n					\n				\n					\n						\n\n					\n				\nПРОГРАМ\nПетак 18.07.2025. \nПолазак у петак\, 18. јула у 8:00 са паркинга у улици Др. Агостина Нета – Нови Београд (преко пута ТЦ Delta City\, иза зграде Техноманије). \n\n\nПутујемо аутопутем преко Хрватске и Љубљане до Мојстране. Долазак у поподневним сатима у планинарски дом у долини Врата или евентуално у хостел у Мојстрани (у зависности од цене смештаја). Одмор од пута или поподневна шетња до слапа Перичник или долином до подножја северне Триглавске стене. Припрема опреме за успон\, ноћење. \n\nСубота\, 19.07.2025. \n\nУстајање у 5:00\, полазак на успон од Аљажевог дома (1015 м) у 6:00. Прву дужу паузу правимо после око 2\,5 сата\, код бивака на Рушју (1980 м)\, након чега преко дугог сипара долазимо у подножје стена одакле креће захтевнији успон до 2400 м. Одатле следи врло захтеван успон ка врху (сајле\, клинови) до Шкрлатице (2740 м). \nТрајање успона је око 7 сати\, висинска разлика 1750 м. \nНакон паузе од сат времена полазак са врха\, имамо две опције за силазак: \n\n Истом стазом до бивака на Рушју а затим успон до под Кришку стену\nВаријанта преко Задњег долека и Рдече шкрбине 2521м са успоном на Долкову шпицу 2593м\, долазак под Кришку стену и даље изнад Кришких језера силазак до Погачниковог дома (2050м) где ћемо преноћити.\n\nИзузетно напорна тура са великом висинком разликом са преко 2000м успона у дану и трајањем око 12-13 сати. \nНедеља\, 20.07.2025. \nУстајање у 6:00\, полазак на успон у 7:00 ка врху Разор (2601 м). Трајање успона око 2\,5 сата\, висинска разлика 600 м. Завршни део успона је вертикала обезбеђена сајлом и ногоступима. Након паузе на врху и уживања у погледу\, силазак истом стазом до Погачниковог дома. После одмора од 30 минута\, идемо до превоја Довшка вратца (2176 м)\, одакле следи дугачак силазак преко Соватне до долине Врата и Аљажевог дома. \nУкупна висинска разлика: у успону 750м\, у силаску 1800м. \n\nПосле 16:00 полазак за Београд. Са успутним паузама\, очекивани долазак у Београд је око поноћи. \n\n\n\n\n					\n						\n\n					\n				\n					\n						\n\n					\n				\nУчесници акције планинаре на сопствену одговорност\, уз дужно придржавање Правилника о безбедном извођењу планинарских активности Планинарског Савеза Србије: https://www.pk-radnicki.rs/wp-content/uploads/2024/12/P120-Prvilnik-o-bezbednom-izvodjenju-pl.-aktivnosti-16.11.2023.pdf \nНапомињемо да према Закону о туризму (члан 86\, став 4) за путовање није обезбеђена заштита у погледу гаранција путовања. \n\n*Водич задржава право измене плана услед непредвиђених околности. \n 
URL:https://www.pk-radnicki.rs/destinacija/julijski-alpi/
LOCATION:Јулијски Алпи\, Slovenija
CATEGORIES:ВА-Високогорска акција,Пешачење
ATTACH;FMTTYPE=image/jpeg:https://www.pk-radnicki.rs/wp-content/uploads/2025/05/dolina-Zadnjica.jpeg
ORGANIZER;CN="%D0%91%D0%BE%D1%98a%D0%BD %D0%9C%D0%B8%D0%BB%D0%BE%D0%B2a%D0%BD%D0%BE%D0%B2%D0%B8%D1%9B (%D0%9C%D0%91 466)":MAILTO:bojanplaninar@gmail.com
END:VEVENT
END:VCALENDAR