BEGIN:VCALENDAR
VERSION:2.0
PRODID:-//Планинарски клуб Раднички - ECPv6.15.15//NONSGML v1.0//EN
CALSCALE:GREGORIAN
METHOD:PUBLISH
X-ORIGINAL-URL:https://www.pk-radnicki.rs
X-WR-CALDESC:Events for Планинарски клуб Раднички
REFRESH-INTERVAL;VALUE=DURATION:PT1H
X-Robots-Tag:noindex
X-PUBLISHED-TTL:PT1H
BEGIN:VTIMEZONE
TZID:UTC
BEGIN:STANDARD
TZOFFSETFROM:+0000
TZOFFSETTO:+0000
TZNAME:UTC
DTSTART:20250101T000000
END:STANDARD
END:VTIMEZONE
BEGIN:VEVENT
DTSTART;VALUE=DATE:20260214
DTEND;VALUE=DATE:20260218
DTSTAMP:20260422T094402
CREATED:20260127T185906Z
LAST-MODIFIED:20260127T190056Z
UID:10286-1771027200-1771372799@www.pk-radnicki.rs
SUMMARY:Зимска планинарска школица СТАРА ПЛАНИНА – Дојкинци
DESCRIPTION:Овом акцијом желимо да деци покажемо колико је планинарење у зимским условима другачије и узбудљиво… Тако је гласила почетна реченица у најави школице претходних година. \nШколица је заиста показала да деца лако савладавају стазе под снегом\, да се играју и уче кроз искуство. Кроз креативне радионице и дружење\, деца памте издашну природу Старе планине\, особености Дојкинаца\, као и добру храну коју су за њих припремали старији другари у дому. \nИ ове године Стара планина нас чека — снежна\, а топла\, захваљујући срдачним људима који нас дочекују\, разноликој природи и ћилимима са јединственим шарама. Своје ћилиме доживљаја са ове школице\, деца настављају да ткају. \nСтара планина\, или како је још зову Балкан планина\, планински је венац који се простире у дужини од 530 км и припада Карпатско-балканском систему планина. У нашој земљи налази се мањи\, западни део планине\, док један њен део представља природну границу између Србије и Бугарске. \nНајвиши врх Старе планине у Србији је Миџор (2169 м)\, док је у Бугарској то Ботев (2376 м). Планина је богата бројним речним токовима\, водопадима\, клисурама и кањонима\, а ту је и Завојско језеро. Најдрагоценији део планине заштићен је као Парк природе прве категорије. Управо у том заштићеном подручју налази се село Дојкинци и истоимени планински дом у ком ћемо бити смештени. \n\n					\n						\n\n					\n				\n					\n						\n\n					\n				\nВодичи: Јагода Новески (МБ 467) – телефон 060 751 32 97 \nПомоћни водич: Владимир Костић\, проф. физичке култ. и водич – телефон 060 359 33 32   \nЦена превоза:  9.000 динара \n(обухвата превоз изнајмљеним возилом са путаринама\, смештај и оброке за возача) \nСмештај: за ноћење у дому\, боравишну таксу и осигурање потребно је издвојити 1.130 динара по дану\, што укупно износи 3.390 динара за децу (три дана). За одрасле је цена 1.640 динара по дану\, односно 4.920 динара укупно. \n\n\nДокумента: чланска картица са маркицом за текућу 2026. годину и здравствена књижица за децу\, лична карта за одрасле. \nОпрема: гојзерице\, патике\, папуче за дом\, одећа за зимске услове\, капа\, рукавице\, мали ранац за једнодневна планинарења\,  купаћи костим\, пешкир\, две боце од попола литра воде\, лична хигијена\, пресвлаке\, више пари чарапа упакованих у кесе. \nХрана и вода: Храну припремају наши другари у добро опремљеној кухињи дома. Оброци су разноврсни и обилни — доручак\, ручак и две ужине. Цена исхране износи 6.000 динара за децу\, а 7.000 динара за одрасле. \nПријаве и инфо код водича. Учешће се потврђује уплатом 9.000 динара на рачун клуба за који ћете добити фискални рачун. Инструкције за уплату ћете добити од водича\, након што вам потврди да има места за акцију.  Такође\, уплате се могу извршити и на редовним састанцима клуба четвртком од 19 часова (Ђурићева 3а). Остатак новца\, за смештај и храну ћемо дати у планинарском дому. \n\n\n					\n						\n\n					\n				\n					\n						\n\n					\n				\nПрограм\nПолазак у суботу\, 14. фебруара у 06:30 са паркинга код општине Нови Београд. \n\nПутујемо аутопутем ка Пироту\, а затим настављамо ка селу Рсовци\, које се налази 24 км источно од Пирота. Прелазимо реку Височицу и настављамо ка пећини изнад села\, смештеној у брду Калик. У овој пећини налази се црква из 13. века\, позната по несвакидашњој икони „ћелавог Исуса“ и лековитој води. \nПешачење настављамо стазом која нас води до улаза у кањон Владикине плоче. Ходаћемо низ ток реке Височице до видиковца на десној страни кањона\, одакле се пружа поглед на истоимену пећину. Током пешачења савладаћемо око 3\,5 км стазе и 250 м висинске разлике. \nНакон тога следи смештај и распакивање у топлим вишекреветним собама планинарског дома „Дојкинци“. У 17:00 планирана је заједничка ручко-вечера\, а затим одмор и креативне радионице:„Мој старопланински дневник“ и „Привезак са Старе планине“. \nОдлазак на спавање планиран је у 21:00. \n  \nНедеља\, 15.02.2026. \nУ 9:00  полазимо ка локалитету Понор и Бодином врху\, уз скретање ка Стражној чуки\, одакле се пружа поглед на плато Копрена. Очекује нас око 600 м успона. Повратак у дом планиран је око 14 часова. \nНакон повратка следе одмор и лагана шетња кроз живописно село Дојкинци\, до ручка. Потом је планирана посета Дому културе „Дојкинци“\, као и упознавање са Дојкиначком реком. \nПосле ручка следи практични и показни део школице: \n\nкако се правилно пакује рана\nпланинарска опрема за зимске услове\nкретање по снегу\nнајчешће коришћени планинарски чворови и њихова израда\n\nВече је резервисано за палачинке и журку\, уз дружење до времена за спавање. \n  \nПонедељак\, 16.02.2026. \nПосле доручка\, који је сваког дана у 8:00\, крећемо ка Паклешком врху (1.330 м). До самог врха биће нам потребно око 1 сат и 30 минута\, а затим још око сат времена за кружни обилазак видиковаца\, са којих се пружају погледи ка Вртибогу\, Бислави и Завојском језеру. \nПовратак у дом планиран је између 13:00 и 14:00. По доласку следи кратак одмор\, ужина и чај. Потом излазимо на абзајл\, на стрмину која се налази у непосредној близини дома\, све до времена за ручко-вечеру. \nОко 18:30 почињу креативне радионице: \n\n„Старопланинске слике“\n„Шаре пиротског ћилима“\n\nУследиће прављење медењака са мотивима ових шара\, а затим журка и дружење. \n  \nУторак\, 17.02.2026. \nПосле доручка следе паковање и напуштање дома. Крећемо ка селу Градашница\, одакле пешачимо око 2 км уз реку Градашницу до једног од омиљених места Пироћанаца — Даг бањице. \nДаг бањица је извор топле\, лековите воде температуре око 29 степени\, за који се везују бројне легенде. Ту ћемо се окупати\, брзо пресвући и вратити до нашег аутобуса. \nНакон тога одлазимо ка Пироту\, а боравак у овом инспиративном крају завршавамо посетом ткачкој радионици и „Зимској школи ћилимарства“\, коју води Славица Јовановић. \nДолазак у Београд планиран је до 21:00. \nСтара планина је посебна и инспиративна — оденута у бело\, и зими је неописиво лепа. Радујемо се њеном загрљају! \n\n					\n						\n\n					\n				\n					\n						\n\n					\n				\nУчесници акције планинаре на сопствену одговорност\, уз дужно придржавање Правилника о безбедном извођењу планинарских активности Планинарског Савеза Србије: https://www.pk-radnicki.rs/wp-content/uploads/2024/12/P120-Prvilnik-o-bezbednom-izvodjenju-pl.-aktivnosti-16.11.2023.pdf \nНапомињемо да према Закону о туризму (члан 86\, став 4) за путовање није обезбеђена заштита у погледу гаранција путовања. \n\n*Водич задржава право измене плана услед непредвиђених околности. \n 
URL:https://www.pk-radnicki.rs/destinacija/stara-planina/
LOCATION:Стара планина
CATEGORIES:Клинци планинци,ПА-планинарска Акција,Пешачење
ATTACH;FMTTYPE=image/jpeg:https://www.pk-radnicki.rs/wp-content/uploads/2026/01/Stara-planina-Dojkinci-2.jpg
ORGANIZER;CN="%D0%88%D0%B0%D0%B3%D0%BE%D0%B4%D0%B0 %D0%9D%D0%BE%D0%B2%D0%B5%D1%81%D0%BA%D0%B8 (%D0%9C%D0%91 467)":MAILTO:caomehus@gmail.com
END:VEVENT
BEGIN:VEVENT
DTSTART;VALUE=DATE:20260222
DTEND;VALUE=DATE:20260223
DTSTAMP:20260422T094402
CREATED:20260129T174110Z
LAST-MODIFIED:20260129T174206Z
UID:10297-1771718400-1771804799@www.pk-radnicki.rs
SUMMARY:ВРШАЧКЕ ПЛАНИНЕ
DESCRIPTION:Вршачке планине налазе се на самој граници са Румунијом и најближе су граду Вршцу. Гудурички врх (641 м.) уједно је и највиша тачка Војводине. Ове планине заједно са Фрушком Гором спадају у острвске планине јер су некада биле острва у Панонском мору. Са планине се пружа поглед на град Вршац\, Војводину\, као и Румунију. \n\n					\n						\n\n					\n				\n					\n						\n\n					\n				\nВодичи: Бојан Јелић МБ 675\, тел. 064 0310146\, мејл: bokijelic3@gmail.com \nЦена превоза:  2.800 динара \n(обухвата превоз изнајмљеним возилом са путаринама и оброке за возача) \nДокумента: чланска картица са маркицом за текућу 2026. годину\, лична карта и здравствена књижица. \nОпрема: топла одећа са резервном пресвлаком\, чеона лампа. \nХрана и вода: храна из ранца\, боца са водом. \nПријаве уз уплату пуног износа акције врши се преко рачуна. Без извршене уплате пријава се сматра неважећом. У случају одустајања пронаћи замену\, у противном уплаћени износ се не враћа. \n\n\n					\n						\n\n					\n				\n					\n						\n\n					\n				\nПрограм\nПолазак у недељу\, 22. фебруара у 7:00 из улице др. Агостина Нета\, са паркинга преко пута Делта ситија у правцу Савског кеја. Паркинг је најближи згради Техноманије \nНајкасније до 9:00 долазимо подно Вршачке куле\, на полазну тачку нашег пешачења. Попећемо се на успутни Ђаков врх 449м\, након чега ћемо стазом преко Шумареве куће извршити успон на Лисичију главу 590м. Стаза је шумска\, питома и не изискује велике напоре. \nПовратак истом стазом до Шумареве куће након чега одлазимо до планинарског дома Широко било где ћемо направити једночасовну паузу и окрепити се у овом дивном објекту. \nНакон посете дому макадамским и асфалтним путем идемо до Вршачке куле са које се пружа изузетан панорамски поглед на град Вршац. Кула је уједно и заштићено културно добро\, са својим редовним садржајима и поставкама. \nНакон обиласка куле\, Вршачким брегом спуштамо се у сам центар града где ћемо до 16:00 завршити нашу данаћшњу акцију. У граду ћемо направити двочасовну паузу коју свако може индивидуално искористити како му одговара. \nДужина пешачења износиће 15 км\, а висинска разлика коју треба савладати је безначајна. \nОко 18:00 је полазак за Београд\, а долазак у исти најкасније до 20:00.  \n\n\n					\n						\n\n					\n				\nУчесници акције планинаре на сопствену одговорност\, уз дужно придржавање Правилника о безбедном извођењу планинарских активности Планинарског Савеза Србије: https://www.pk-radnicki.rs/wp-content/uploads/2024/12/P120-Prvilnik-o-bezbednom-izvodjenju-pl.-aktivnosti-16.11.2023.pdf \nНапомињемо да према Закону о туризму (члан 86\, став 4) за путовање није обезбеђена заштита у погледу гаранција путовања. \n\n*Водич задржава право измене плана услед непредвиђених околности. \n 
URL:https://www.pk-radnicki.rs/destinacija/vrsacke-planine-7/
LOCATION:Вршачке планине
CATEGORIES:ПА-планинарска Акција,Пешачење
ATTACH;FMTTYPE=image/webp:https://www.pk-radnicki.rs/wp-content/uploads/2025/01/Vrsacke-Planine-2.webp
ORGANIZER;CN="%D0%91%D0%BE%D1%98a%D0%BD %D0%88%D0%B5%D0%BB%D0%B8%D1%9B (%D0%9C%D0%91 675)":MAILTO:bokijelic3@gmail.com
END:VEVENT
END:VCALENDAR