BEGIN:VCALENDAR
VERSION:2.0
PRODID:-//Планинарски клуб Раднички - ECPv6.15.15//NONSGML v1.0//EN
CALSCALE:GREGORIAN
METHOD:PUBLISH
X-WR-CALNAME:Планинарски клуб Раднички
X-ORIGINAL-URL:https://www.pk-radnicki.rs
X-WR-CALDESC:Events for Планинарски клуб Раднички
REFRESH-INTERVAL;VALUE=DURATION:PT1H
X-Robots-Tag:noindex
X-PUBLISHED-TTL:PT1H
BEGIN:VTIMEZONE
TZID:UTC
BEGIN:STANDARD
TZOFFSETFROM:+0000
TZOFFSETTO:+0000
TZNAME:UTC
DTSTART:20250101T000000
END:STANDARD
END:VTIMEZONE
BEGIN:VEVENT
DTSTART;VALUE=DATE:20260426
DTEND;VALUE=DATE:20260427
DTSTAMP:20260422T082227
CREATED:20260211T201940Z
LAST-MODIFIED:20260212T151205Z
UID:10371-1777161600-1777247999@www.pk-radnicki.rs
SUMMARY:Вуковом стазом - Тршић - манастир Троноша
DESCRIPTION:  \nТршић није само тачка на карти\, нити је само почетак једне стазе — он је много више од тога. Тршић је родно место Вука Караџића и место одакле је српска реч кренула пешке у свет. \nВук је\, жељан знања и са ушима отвореним за народну памет\, неуморно записивао како његов народ говори\, а не како књиге заповедају\, јер\, што би рекли стари: „Није језик за ормар\, него за народ.“ \nСтаза којом је пешачио до школе\, која се налазила у манастиру Троноша\, води кроз шуму поред речице Жеравије. Од недавно је овај предео проглашен пределом изузетних одлика и заштићеним подручјем од изузетног значаја. Поред историјског и културног значаја\, овај крај је и дом многих биљних и животињских врста. \nХодаћемо уз бистру Жеравију и уживати у њеном жубору\, док неколико пута прескачемо са једне на другу страну њене обале. Стаза нас даље води до места Иконе\, а потом се спуштамо до чесме Девет Југовића. Она стоји надомак манастира — не само да гаси жеђ уморних планинара\, већ као његов чувар и сведок многих бурних векова. Ко се напије\, нека зна да не пије само воду\, него и предање. \nНакон 150 метара долазимо до манастира Троноша\, правог ремек-дела српске средњовековне архитектуре. Појављује се тихо\, као добра мисао\, а осећај мирноће који се осети током боравка у њему је неописив. Сматра се да је саграђен давне 1317. године\, а његов ктитор је краљица Каталина Немањић\, жена краља Драгутина. \nСтаза од Тршића до Троноше делује једноставно\, али човек брзо схвати да она не води само напред\, већ и унутра. И кад се пут заврши\, остаје утисак да се није прешла само раздаљина\, већ да је човек\, бар за корак\, пришао себи. \n\n					\n						\n\n					\n				\n					\n						\n\n					\n				\nВодичи: \nМарија Живковић (МБ 1001) – телефон 064 2670876 – marijaplaninarka@gmail.com \nНенад Живковић (МБ 1002) – телефон 064 3018030 – pepizivkovic84@gmail.com \nЦена превоза:  2.700 динара \n(обухвата превоз изнајмљеним возилом са путаринама\, смештај и оброке за возача) \nЦена не обухвата: \n\nулазницу у Вукову кућу\nиндивидуални трошкови (храна и пиће)\n\n\nДокумента: чланска картица са маркицом за текућу 2026. годину и здравствена књижица. \n\nОпрема: планинарски ранац\, слојевита одећа\, дубоке ципеле\, камашне\, кабаница\, резервна преобука (остаје у аутобусу)\, батеријска лампа и резервне батерије\, штапови за ходање ако их имате. \nХрана и вода: минимум 2 литра воде\, сендвичи\, свеже воће\, суво воће. \nПријаве и инфо код водича. Учешће се потврђује уплатом укупног износа на рачун клуба за који ћете добити фискални рачун. Инструкције за уплату ћете добити од водича\, након што вам потврди да има места за акцију.  Такође\, уплате се могу извршити и на редовним састанцима клуба четвртком од 19 часова (Ђурићева 3а). У случају одустајања наћи замену јер се новац не враћа. \n\n\n					\n						\n\n					\n				\n					\n						\n\n					\n				\nПрограм\nПолазак у недељу\, 26. априла у 06:30 са паркинга код Сава центра. \nИдемо аутопутем преко Шапца и Лознице до Тршића\, где је наша полазна тачка. Старт на стази планиран је око 9:00. \nНа почетку ћемо обићи спомен-комплекс — музеј на отвореном посвећен Вуку Караџићу\, у оквиру кога се налазе вајати\, галерија\, Вукова кућа\, мала дрвена црква и амфитеатар на отвореном. Обилазак целог комплекса је бесплатан\, изузев уласка у Вукову кућу\, где цена улазнице износи 200 динара. \nНакон тога\, пратећи речицу Жеравију\, настављамо пешачење кроз шуму. Успут ћемо проћи поред места званог Иконе\, које има велики историјски значај. Ту се народ у прошлости тајно окупљао\, молио и качио иконе\, у време када су цркве биле забрањене. \nКод манастира ћемо обићи чесму Девет Југовића. По предању\, вода је лековита\, па ћемо се ту окрепити и уживати у лепоти која окружује манастир. \nМанастир Троноша је женски манастир који потиче из 14. века и место где се Вук Караџић описменио. \nНакон обиласка манастира\, враћамо се назад шумском стазом\, пратећи ток Жеравије\, и стижемо до етно-домаћинства „Милица“\, где ћемо ручати и направити паузу за одмор. \nПосле одмора настављамо пешачење до места где нас чека аутобус. Укупна дужина стазе је око 12 километара и прилагођена је свим узрастима\, као и планинарима различите физичке кондиције. \n\n\nПланирани долазак у Београд је око 20:00 часова. \n\n\n					\n						\n\n					\n				\n					\n						\n\n					\n				\nУчесници акције планинаре на сопствену одговорност\, уз дужно придржавање Правилника о безбедном извођењу планинарских активности Планинарског Савеза Србије: https://www.pk-radnicki.rs/wp-content/uploads/2024/12/P120-Prvilnik-o-bezbednom-izvodjenju-pl.-aktivnosti-16.11.2023.pdf \nНапомињемо да према Закону о туризму (члан 86\, став 4) за путовање није обезбеђена заштита у погледу гаранција путовања. \n\n*Водич задржава право измене плана услед непредвиђених околности. \n 
URL:https://www.pk-radnicki.rs/destinacija/trsic/
LOCATION:Тршић
CATEGORIES:ПА-планинарска Акција,Пешачење
ATTACH;FMTTYPE=image/jpeg:https://www.pk-radnicki.rs/wp-content/uploads/2026/02/Trsic-1.jpg
ORGANIZER;CN="%D0%9C%D0%B0%D1%80%D0%B8%D1%98%D0%B0 %D0%96%D0%B8%D0%B2%D0%BA%D0%BE%D0%B2%D0%B8%D1%9B (%D0%9C%D0%91 1001)":MAILTO:marijaplaninarka@gmail.com
END:VEVENT
END:VCALENDAR