BEGIN:VCALENDAR
VERSION:2.0
PRODID:-//Планинарски клуб Раднички - ECPv6.15.15//NONSGML v1.0//EN
CALSCALE:GREGORIAN
METHOD:PUBLISH
X-WR-CALNAME:Планинарски клуб Раднички
X-ORIGINAL-URL:https://www.pk-radnicki.rs
X-WR-CALDESC:Events for Планинарски клуб Раднички
REFRESH-INTERVAL;VALUE=DURATION:PT1H
X-Robots-Tag:noindex
X-PUBLISHED-TTL:PT1H
BEGIN:VTIMEZONE
TZID:UTC
BEGIN:STANDARD
TZOFFSETFROM:+0000
TZOFFSETTO:+0000
TZNAME:UTC
DTSTART:20160101T000000
END:STANDARD
END:VTIMEZONE
BEGIN:VEVENT
DTSTART;VALUE=DATE:20170310
DTEND;VALUE=DATE:20170313
DTSTAMP:20260423T013708
CREATED:20170226T072841Z
LAST-MODIFIED:20170226T072841Z
UID:2023-1489104000-1489363199@www.pk-radnicki.rs
SUMMARY:Проклетије
DESCRIPTION:ВРХ: Волушница\, Каранфили \nВОДИЧ: Александар Лукић
URL:https://www.pk-radnicki.rs/destinacija/prokletije-2/
LOCATION:Проклетије\, Srbija
CATEGORIES:ПА-планинарска Акција
ATTACH;FMTTYPE=image/jpeg:https://www.pk-radnicki.rs/wp-content/uploads/2017/02/prokletije_1.jpg
END:VEVENT
BEGIN:VEVENT
DTSTART;VALUE=DATE:20170303
DTEND;VALUE=DATE:20170306
DTSTAMP:20260423T013708
CREATED:20170223T070010Z
LAST-MODIFIED:20170305T121123Z
UID:114-1488499200-1488758399@www.pk-radnicki.rs
SUMMARY:Проклетије
DESCRIPTION:Врхови: Волушница\, Попадија (2.056м)\nВодич: Александар Тијанић
URL:https://www.pk-radnicki.rs/destinacija/prokletije/
LOCATION:Проклетије\, Srbija
CATEGORIES:ПА-планинарска Акција
ATTACH;FMTTYPE=image/jpeg:https://www.pk-radnicki.rs/wp-content/uploads/2017/02/prokletije_1.jpg
END:VEVENT
BEGIN:VEVENT
DTSTART;TZID=UTC:20170225T080000
DTEND;TZID=UTC:20170225T170000
DTSTAMP:20260423T013708
CREATED:20170225T100549Z
LAST-MODIFIED:20170225T100549Z
UID:1976-1488009600-1488042000@www.pk-radnicki.rs
SUMMARY:Хомољске планине
DESCRIPTION:ВРХ: В.Вукан (825м)\, бања Ждрело \nВОДИЧ: Јагода Новески
URL:https://www.pk-radnicki.rs/destinacija/homoljske-planine-2/
LOCATION:Хомољске планине
CATEGORIES:ПА-планинарска Акција
ATTACH;FMTTYPE=image/jpeg:https://www.pk-radnicki.rs/wp-content/uploads/2017/02/homoljske-planine.jpg
END:VEVENT
BEGIN:VEVENT
DTSTART;TZID=UTC:20170224T080000
DTEND;TZID=UTC:20170225T230000
DTSTAMP:20260423T013708
CREATED:20170225T101620Z
LAST-MODIFIED:20170225T101705Z
UID:1978-1487923200-1488063600@www.pk-radnicki.rs
SUMMARY:Сува планина
DESCRIPTION:ВРХ: Трем (1810м) \nВОДИЧ: Ненад Царевић
URL:https://www.pk-radnicki.rs/destinacija/suva-planina/
LOCATION:Сува планина\, Srbija
CATEGORIES:ПА-планинарска Акција,ПСС-Акција Планинарског савеза Србије
ATTACH;FMTTYPE=image/jpeg:https://www.pk-radnicki.rs/wp-content/uploads/2017/02/suva-planina-mountain1.jpg
END:VEVENT
BEGIN:VEVENT
DTSTART;TZID=UTC:20170215T080000
DTEND;TZID=UTC:20170219T170000
DTSTAMP:20260423T013708
CREATED:20170225T095232Z
LAST-MODIFIED:20170225T095232Z
UID:1968-1487145600-1487523600@www.pk-radnicki.rs
SUMMARY:Златибор
DESCRIPTION:ВРХ: Торник (1496м) \nВОДИЧ: Јагода Новески
URL:https://www.pk-radnicki.rs/destinacija/zlatibor/
LOCATION:Златибор\, Srbija
CATEGORIES:ПА-планинарска Акција
ATTACH;FMTTYPE=image/jpeg:https://www.pk-radnicki.rs/wp-content/uploads/2017/02/zlatibor-planina-blue-house-smestaj1.jpg
END:VEVENT
BEGIN:VEVENT
DTSTART;TZID=UTC:20170121T080000
DTEND;TZID=UTC:20170121T233000
DTSTAMP:20260423T013708
CREATED:20170224T153219Z
LAST-MODIFIED:20170224T192449Z
UID:1934-1484985600-1485041400@www.pk-radnicki.rs
SUMMARY:Хомољске планине
DESCRIPTION:ВРХ: Велики Вукан (825м) \nВОДИЧ: Ненад Царевић
URL:https://www.pk-radnicki.rs/destinacija/homoljske-planine/
LOCATION:Хомољске планине
CATEGORIES:ПА-планинарска Акција
ATTACH;FMTTYPE=image/jpeg:https://www.pk-radnicki.rs/wp-content/uploads/2017/02/homoljske-planine.jpg
END:VEVENT
BEGIN:VEVENT
DTSTART;VALUE=DATE:20170114
DTEND;VALUE=DATE:20170115
DTSTAMP:20260423T013708
CREATED:20170224T152806Z
LAST-MODIFIED:20170305T121044Z
UID:1930-1484352000-1484438399@www.pk-radnicki.rs
SUMMARY:Ртањ
DESCRIPTION:ВРХ: Шиљак (1565м) \nВодич: Александар Лукић
URL:https://www.pk-radnicki.rs/destinacija/rtanj/
LOCATION:Ртањ\, Бољевац\, Srbija
CATEGORIES:ПА-планинарска Акција,ПСС-Акција Планинарског савеза Србије
ATTACH;FMTTYPE=image/jpeg:https://www.pk-radnicki.rs/wp-content/uploads/2017/02/Rtanj2.jpg
END:VEVENT
END:VCALENDAR