BEGIN:VCALENDAR
VERSION:2.0
PRODID:-//Планинарски клуб Раднички - ECPv6.15.15//NONSGML v1.0//EN
CALSCALE:GREGORIAN
METHOD:PUBLISH
X-WR-CALNAME:Планинарски клуб Раднички
X-ORIGINAL-URL:https://www.pk-radnicki.rs
X-WR-CALDESC:Events for Планинарски клуб Раднички
REFRESH-INTERVAL;VALUE=DURATION:PT1H
X-Robots-Tag:noindex
X-PUBLISHED-TTL:PT1H
BEGIN:VTIMEZONE
TZID:UTC
BEGIN:STANDARD
TZOFFSETFROM:+0000
TZOFFSETTO:+0000
TZNAME:UTC
DTSTART:20160101T000000
END:STANDARD
END:VTIMEZONE
BEGIN:VEVENT
DTSTART;VALUE=DATE:20190222
DTEND;VALUE=DATE:20190225
DTSTAMP:20260422T183409
CREATED:20190127T181634Z
LAST-MODIFIED:20190217T101441Z
UID:4711-1550793600-1551052799@www.pk-radnicki.rs
SUMMARY:23. зимски успон на Трем - Републичка акција
DESCRIPTION:АКЦИЈА СЕ ОТКАЗУЈЕ ЗБОГ МАЛОГ БРОЈА ПРИЈАВЉЕНИХ ПЛАНИНАРА
URL:https://www.pk-radnicki.rs/destinacija/23-zimski-uspon-na-trem-republicka-akcija/
LOCATION:Трем\, Srbija
CATEGORIES:ВА-Високогорска акција,ПСС-Акција Планинарског савеза Србије
ATTACH;FMTTYPE=image/jpeg:https://www.pk-radnicki.rs/wp-content/uploads/2017/02/trem.jpg
ORGANIZER;CN="%D0%9D%D0%B5%D0%BDa%D0%B4 %D0%A6a%D1%80%D0%B5%D0%B2%D0%B8%D1%9B (%D0%9C%D0%91 576)":MAILTO:nesaspyder@yahoo.com
END:VEVENT
BEGIN:VEVENT
DTSTART;VALUE=DATE:20180915
DTEND;VALUE=DATE:20180916
DTSTAMP:20260422T183409
CREATED:20180831T095629Z
LAST-MODIFIED:20180831T095630Z
UID:4402-1536969600-1537055999@www.pk-radnicki.rs
SUMMARY:Дан пешачења
DESCRIPTION:Поводом Дана пешачења у Србији\, Планинарски клуб Раднички организује шетњу – пешачење по Топчидерском парку и Кошутњаку.  Акција се организује под покровитељством Планинарског савеза Србије\, уз подршку Министарства омладине и спорта и Министарства просвете\, науке и технолошког развоја. Циљ ове манифестације је подстицање здравих животних навика\, указивање на значај кретања за очување и унапређење здравља и радних способности\, социјализација и развој туристичких потенцијала кроз уређење и експлоатацију уређених пешачких путева у Србији. Од 12 пешачких путева који се протежу преко европског континента преко наше земље прелазе два Е4 и Е7.\nПозивамо све заинтеросоване да нам се придруже 15. септембра 2018. године у 8.00 часова код Топчидерске звезде – кружни ток ( станица аутобуса број 44). Предвиђена је шетња кроз Топчидерски парк\, преко Топчидерске реке до Кошутњака\, Хајдучке чесме и назад до Конака Кнеза Милоша и полазне тачке. Предвиђено време трајања шетње је око 4 сата. \nСа собом понети добро расположење\, евентуално кишобран или кабаницу у зависности од временских прилика.\nШетњом мисли постају чистије…\n \nВодич: Живота Лазаревић\, МБ 667\,  тел: 064 169 99 27
URL:https://www.pk-radnicki.rs/destinacija/dan-pesacenja/
LOCATION:Београд\, Srbija
CATEGORIES:ПСС-Акција Планинарског савеза Србије
ATTACH;FMTTYPE=image/jpeg:https://www.pk-radnicki.rs/wp-content/uploads/2018/04/Topcider.jpg
END:VEVENT
BEGIN:VEVENT
DTSTART;VALUE=DATE:20180914
DTEND;VALUE=DATE:20180916
DTSTAMP:20260422T183409
CREATED:20180906T114720Z
LAST-MODIFIED:20180906T114720Z
UID:4411-1536883200-1537055999@www.pk-radnicki.rs
SUMMARY:РТАЊ (Шиљак–1560м)
DESCRIPTION:Подмладак ПК „Раднички“ Београд\, КЛИНЦИ ПЛАНИНЦИ\, позива другаре на једну од наших најлепших планина – Ртањ\, чиме бисмо подржали акцију ПК “Шиљак” Бољевац\, коју овај клуб већ традиционално одржава – БАМБИ УСПОН НА РТАЊ. \nРтањ припада Карпатским планинама\, налази се око 200 километара југоисточно од Београда. Једна је од наших култних планина око које се везују мистериозне приче – од тога да је вештачка творевина јер је савршеног пирамидалног облика\, до тога да се на њој виђају ванземаљци и летећи тањири. Оно што је сигурно јесте да је ова планина занимљива планинарима\, истраживачима и ботаничарима. Станиште je биљке Ramonda Serbica коју је открио Јосиф Панчић\, а која има способност привидно одсутног живота\, па је зову још и биљка-феникс. Ртањ је станиште и надалеко познатог ртањског чаја\, тачније биљке планински чубар\, изузетно лековите биљке овог подручја. Планинари своју планинарску годину почињу успоном на ову планину – Божићни успон на Ртањ. \nНадамо се да ће ова акција ПК ”Шиљак” Бољевац\, jедног дана постати републичка и да ће се по Ртњу пењати  деца из разних делова Србије. \n \n– Полазак 14.09.2018. – петак  у 17 часова из Скерлићеве улице\, код Храма Св. Саве. Путујемо ауто-путем ка Параћину\, а затим настављамо ка Зајечару и  Грзи. Морамо кренути дан раније због даљине и због тога што акција почиње већ у 8 часова.\n– око 20 – 20:30 смештамо се у собе планинарског дома „Ђорђе Живковић“ (ПК „Јаворак“ Параћин)\, вечерамо\, а око 21:30 одлазимо на спавање.\n15.09.2018. – субота\n– устајање у 6 часова. Спремање и доручак до 7 часова\, како бисмо на време\, аутобусом стигли до насеља Ртањ и пошли на успон са домаћинима акције. На успон идемо јужном страном планине. Стаза вијуга серпентинама и до врха треба савладати висинску разлику од око 960 метара. Уз доста пауза и одмарања\, на врху би требало да будемо до 12:30 – 13 часова. На врху ће организатор акције поделити учесницима беџеве и захвалнице.\n– у подножје планине стижемо до 16 часова\, одакле се аутобусом превозимо назад ка Грзи\, тј. ка ресторану „Колиба“\, где ручамо око 17 часова. \n– око 18:30 крећемо ка Београду\, где стижемо до 22 часа. \nОПРЕМА: гојзерице\, слојевита одећа\, пресвлака\, резервне чарапе и патике\, заштита од кише и сунца\, мали ранац са по 2 боце од пола литра воде\, храна (сендвичи\, слаткиши\, воће) – потребна за вечеру\, доручак и успон. \nЦЕНА: 3200 динара обухвата превоз\, путарине\, смештај у дому\, ручак.  \nПријаве закључно са 11.09.2018. уз аконтацију од 2000 динара на састанку клуба ПК „Раднички“\, Војводе Шупљикца 31\, четвртком од 19 часова\, или уплата пост нет упутницом. За учешће на акцији је потребна планинарска картица за плаћеном чланарином за ову годину. \nВОДИЧ: Јагода Новески – тел. 060 751 32 97
URL:https://www.pk-radnicki.rs/destinacija/rtanj-siljak-1560m/
LOCATION:Ртањ\, Бољевац\, Srbija
CATEGORIES:ПСС-Акција Планинарског савеза Србије
ATTACH;FMTTYPE=image/jpeg:https://www.pk-radnicki.rs/wp-content/uploads/2018/09/rtanj1.jpg
ORGANIZER;CN="%D0%88%D0%B0%D0%B3%D0%BE%D0%B4%D0%B0 %D0%9D%D0%BE%D0%B2%D0%B5%D1%81%D0%BA%D0%B8 (%D0%9C%D0%91 467)":MAILTO:caomehus@gmail.com
END:VEVENT
BEGIN:VEVENT
DTSTART;VALUE=DATE:20180616
DTEND;VALUE=DATE:20180617
DTSTAMP:20260422T183409
CREATED:20180531T155923Z
LAST-MODIFIED:20180531T155923Z
UID:4269-1529107200-1529193599@www.pk-radnicki.rs
SUMMARY:Дани планинара Србије
DESCRIPTION:Једна од активности у оквиру Дана планинара ПСС-а\, које ове године организују ПСК „БРЂАНКА“ из Алексинца и ПК „ОЗРЕН“ из Сокобање\, јесте и IV коло ТЛС (Трекинг лига Србије)\, 16. јуна.\nУ оквиру сваког кола\, домаћини припреме и маркирају три стазе у дужинама до 20км\, од 20км до 30км и трећу\, најдужу\, преко 30км.\n \nТако су и овај пут припремили стазе од 15\,8км са успоном од 870м\, 25км са успоном од 1260м и 35км са успоном од 1920м. Све стазе почињу и завршавају се испред манастира Светог Стефана у Липовцу\, крај Алексинца.\n \nСкуп учесника до 6 часова\, када аутобус полази са паркинга у Булевару Зорана Ђинђића\, код новобеоградске Арене. Треба доћи 15-ак минута раније\, како бисмо стигли на време на старт такмичења\, који је предвиђен за 9.45.\n \nПутоваћемо ауто-путем\, и уз једну краћу паузу требало би да будемо у Липовцу око 9.30 часова. Учесници ове акције нису у обавези да се такмиче\, а они који то желе морају да доплате и котизацију од 300 динара. Она обезбеђује воду и окрепу на више места током стазе\, као и диплому и беџ за све учеснике\, а за најбоље у свим категоријама и медаље. За такмичаре млађе од 18 година\, а чланове ПК Раднички\, Клуб плаћа износ котизације.\n     \nПовратак са акције предвиђен је након доделе диплома и признања која почиње у 18 часова.\n \nОпрема: планинарске ципеле\, одећа прилагођена временским приликама\, заштита од сунца\, планинарски штапови\nХрана из ранца.\nЦена акције: 2.100 динара\n \nВодичи: Јагода Новески MB 467\, 060/751 32 97\n                и Александар Лукић\, 064/142 00 12\n \nПријаве и аконтације у износу од 1.500 динара могуће је извршити сваког четвртка од 19 часова у просторијама ПК Раднички\, Војводе Шупљикца 31 или пост-нет упутницом у Пошти.
URL:https://www.pk-radnicki.rs/destinacija/dani-planinara-srbije/
LOCATION:Липовац\, Srbija
CATEGORIES:ПСС-Акција Планинарског савеза Србије
ATTACH;FMTTYPE=image/jpeg:https://www.pk-radnicki.rs/wp-content/uploads/2018/05/Monastère_de_Lipovac.jpg
END:VEVENT
BEGIN:VEVENT
DTSTART;VALUE=DATE:20180113
DTEND;VALUE=DATE:20180114
DTSTAMP:20260422T183409
CREATED:20171226T075832Z
LAST-MODIFIED:20171226T075833Z
UID:3987-1515801600-1515887999@www.pk-radnicki.rs
SUMMARY:Божићни успон на Ртањ
DESCRIPTION:Субота 13. јануар 2018. године\n \n05:45 – Полазак из Београда\, са паркинга у Устаничкој 125ц\, код хотела Србија (доћи 15 минута раније). До тамо можете стићи аутобусима 17 и 31\, а постоји и велики паркинг за аутомобиле.\n \nДолазак у подножје Ртња\, где прва група од сепарације креће северном страном ка врху Шиљак 1.560 мнв (успон 1200 мнв)\, док друга група наставља аутобусом до рударског насеља\, одакле се врши успон јужном страном планине (успон 1000 мнв).\n \nОбе групе по завршетку успона силазе јужном страном планине до насеља\, где нас чека аутобус.\n \nПолазак за Београд се планира за 17:30 часова.\n \n\n \nНАПОМЕНА:\n \nПонети топлу гардеробу (топле јакне\, капе\, рукавице) и обућу погодну за планинарење у зимским условима и на високим планинама. Понети храну и довољне количине воде. Ко од раније поседује учесничку књижицу нека је понесе са собом.\n \nВођа акције задржава право да у случају непредвиђених околности измени план.\n \nЦЕНА: 1.400 динара (превоз аутобусом)\nПријаве код водича са уплатом превоза\, четвртком од 19 ч\, на састанку клуба\, Војводе Шупљикца 31.\n \nВОДИЧ: Александар Лукић\nТел. 064/1420012\nе-mail: acavidovdan1975@yahoo.com\n 
URL:https://www.pk-radnicki.rs/destinacija/bozicni-uspon-na-rtanj/
LOCATION:Ртањ\, Бољевац\, Srbija
CATEGORIES:ПА-планинарска Акција,ПСС-Акција Планинарског савеза Србије
ATTACH;FMTTYPE=image/jpeg:https://www.pk-radnicki.rs/wp-content/uploads/2017/12/Rtanj-ALukic-2.jpg
END:VEVENT
BEGIN:VEVENT
DTSTART;VALUE=DATE:20170706
DTEND;VALUE=DATE:20170711
DTSTAMP:20260422T183409
CREATED:20170513T173102Z
LAST-MODIFIED:20170531T150454Z
UID:2997-1499299200-1499731199@www.pk-radnicki.rs
SUMMARY:Планинарски табор Грбаја - Проклетије 2017
DESCRIPTION:Планинарски савез Србије\, Планинарски савез Београда и ПК „Раднички“ Београд позивају вас на \nПланинарски табор Грбаја – Проклетије 2017 \n \nВељи врх 2.196 м\, Очњак 2.185 м\, Волушница 1.879 м\, Попадија 2.056 м\, Каранфил Љуљашевића 2.240 м \nВисокогорство\, Планинско трчање\, Алпинизам \n06.07. (четвртак) – Полазак из Београда у 21.00 са паркинга код Арене – Нови Београд\, Булевар Зорана Ђинђића. \n07.07. (петак) – Долазак у село Досуђе (1 км пре Гусиња) око 06.00\, кратка пауза за препакивање ствари потребних за успон. Полазак на успон из Досуђа (920 м) на планину Гребен преко засеока Заграђе и катуна Чардак\, излазак на на Вељи врх (2.196 м) око 11.00. Са врха се пружа прелеп поглед на масив Проклетија од Тројана до Бјелича\, Виситор\, Зелетин и даље према Комовима. \nПосле паузе на врху\, силазак истом стазом назад до Гусиња. Укупно време трајања туре је око 8 сати\, висинска разлика у успону око 1.300 м и исто толико у силаску. У Гусињу ћемо направити паузу за куповину намирница и наставити аутобусом према долини Грбаја до планинарског дома ПК Раднички „Бранко Котлајић“(1.150 м). Постављање шатора и смештај планинара у дому. Одмор\, вечера и ноћење. \n08.07. (субота) – Полазак на туру од планинарског дома до 8.00 поред Миркове плоче према долини Љубокућ и испод врха Јагњичара до врха Каранфил Љуљашевића (2.240 м). Успон траје око 4 сата\, висинска разлика 1.200 м. После дуже паузе на врху следи повратак истом стазом према долини и планинарском дому. \nУ зависности од састава групе и добрих временских услова\, постоји могућност додатног или алтернативног успона на врх Очњак (2.185 м) за мању групу планинара. Ради се о захтевном успону са вертикалним пењањем у сувој стени на који могу да крену само планинари са претходним искуством кретања и самосталног пењања по сувој стени на сличним врховима. \n \n09.07. (недеља) – Старт планинске трке (за све пријављене учеснике) од планинарског дома ПК Раднички (1.150 м) у 9.00 маркираном стазом кроз шуму до врха Волушница (1.879 м\, прва контролна тачка) и даље гребеном преко врха Попадија (2.056 м) до превоја Ћафа одакле стаза води до катуна Равни кључ (друга контролна тачка) и даље земљаним путем до планинарског дома где је уједно и циљ трке. Висинска разлика у успону износи 1.300 м\, дужина стазе око 14 км (детаљне информације о самој трци као и пријаве биће накнадно објављене). \nПланинари који не учествују на трци крећу на успон у 9.15 до врха Волушница (успон таје до 2\,5 сата)\, а после паузе на врху са којег се пружа фантастичан поглед на врхове изнад Застана\, масив Каранфила\, Очњак и даље до Гусиња\, следи наставак гребенском стазом још око сат времена до Врхова Талијанка и Попадија (2.056 м). Силазак преко Ћафе и волушничког потока до уласка у шуму и повратак до планинарског дома у поподневним сатима. Средње напорна тура\, висинска разлика у успону и силаску 1.200 м. \nПо повратку у дом следи проглашење победника и додела медаља најбољим учесницима по категоријама као и додела захвалница планинарским клубовима за учествовање на Табору. \nПосле паковања ствари и сређивања кампа следи полазак аутобусом из Грбаје у 18.30 и после краће паузе у Гусињу у 20.00 полазак за Београд\, где по плану стижемо у понедељак око 5.00 часова ујутру. \nУ зависности од временских услова и безбедносне процене водича и стања на терену\, план активности може бити промењен и прилагођен датим околностима.  \n  \nСмештај: шатори. Учесници су дужни да обезбеде сопствене шаторе и опрему за камповање.\n(Капацитети дома „Бранко Котлајић“ су у потпуности испуњени.) \nЦена смештаја  је 120 динара по  шатору и 120 динара по особи за једно ноћење. Приход је намењем реконструкцији планинарског дома „Бранко Котлајић“. \nКо нема шатор и жели комфорнији смештај – на 300 метара од дома налази се приватан смештај по цени од 8€ за ноћење. \n  \nИсхрана: \nИсхрана је индивидуална. Што се тиче намирница могуће је снадбевање у Гусињу\, удаљеном 7 км од дома и у ресторану у Грбаји\, удаљеном 300 м од дома. \nПотребна документа: лична карта или пасош\, планинарска књижица са плаћеном чланарином за 2017. \nЗа малолетна лица уколико путују без родитеља или са једним родитељем обавезна је сагласност родитеља или старатеља за путовање у иностранство\, која се оверава код Јавних бележника. \nЦена аутобуског превоза: за планинаре млађе од 21 године: 2.000 динара\, за остале планинаре 3.500 динара. \n  \nПријаве\, уплате и све додатне информације код водича: \nБојан Миловановић\, планинарски водич МБ 466 \n\n\n\n\n\n064 11 11 303\nmail: bojanplaninar@gmail.com\n\n\n\n\n\nили на редовним састанцима у просторијама ПК Раднички четврком од 19.00 у Улици Војводе Шупљикца 31 у Београду. \nВлада републике Србије – Министарство омладине и спорта и град Београд – Градски секретаријат за спорт и омладину\, допринели су у значајној мери реализацији наших пројеката обезбеђивањем неопходних средстава за њихово финансирање.
URL:https://www.pk-radnicki.rs/destinacija/planinarski-tabor-grbaja-prokletije-2017/
LOCATION:Проклетије\, Srbija
CATEGORIES:ВА-Високогорска акција,ПА-планинарска Акција,планинска трка,ПСС-Акција Планинарског савеза Србије,Табор
ATTACH;FMTTYPE=image/jpeg:https://www.pk-radnicki.rs/wp-content/uploads/2017/05/Picture-157.jpg
ORGANIZER;CN="%D0%91%D0%BE%D1%98a%D0%BD %D0%9C%D0%B8%D0%BB%D0%BE%D0%B2a%D0%BD%D0%BE%D0%B2%D0%B8%D1%9B (%D0%9C%D0%91 466)":MAILTO:bojanplaninar@gmail.com
END:VEVENT
BEGIN:VEVENT
DTSTART;TZID=UTC:20170224T080000
DTEND;TZID=UTC:20170225T230000
DTSTAMP:20260422T183409
CREATED:20170225T101620Z
LAST-MODIFIED:20170225T101705Z
UID:1978-1487923200-1488063600@www.pk-radnicki.rs
SUMMARY:Сува планина
DESCRIPTION:ВРХ: Трем (1810м) \nВОДИЧ: Ненад Царевић
URL:https://www.pk-radnicki.rs/destinacija/suva-planina/
LOCATION:Сува планина\, Srbija
CATEGORIES:ПА-планинарска Акција,ПСС-Акција Планинарског савеза Србије
ATTACH;FMTTYPE=image/jpeg:https://www.pk-radnicki.rs/wp-content/uploads/2017/02/suva-planina-mountain1.jpg
END:VEVENT
BEGIN:VEVENT
DTSTART;VALUE=DATE:20170114
DTEND;VALUE=DATE:20170115
DTSTAMP:20260422T183409
CREATED:20170224T152806Z
LAST-MODIFIED:20170305T121044Z
UID:1930-1484352000-1484438399@www.pk-radnicki.rs
SUMMARY:Ртањ
DESCRIPTION:ВРХ: Шиљак (1565м) \nВодич: Александар Лукић
URL:https://www.pk-radnicki.rs/destinacija/rtanj/
LOCATION:Ртањ\, Бољевац\, Srbija
CATEGORIES:ПА-планинарска Акција,ПСС-Акција Планинарског савеза Србије
ATTACH;FMTTYPE=image/jpeg:https://www.pk-radnicki.rs/wp-content/uploads/2017/02/Rtanj2.jpg
END:VEVENT
END:VCALENDAR