BEGIN:VCALENDAR
VERSION:2.0
PRODID:-//Планинарски клуб Раднички - ECPv6.15.15//NONSGML v1.0//EN
CALSCALE:GREGORIAN
METHOD:PUBLISH
X-ORIGINAL-URL:https://www.pk-radnicki.rs
X-WR-CALDESC:Events for Планинарски клуб Раднички
REFRESH-INTERVAL;VALUE=DURATION:PT1H
X-Robots-Tag:noindex
X-PUBLISHED-TTL:PT1H
BEGIN:VTIMEZONE
TZID:UTC
BEGIN:STANDARD
TZOFFSETFROM:+0000
TZOFFSETTO:+0000
TZNAME:UTC
DTSTART:20250101T000000
END:STANDARD
END:VTIMEZONE
BEGIN:VEVENT
DTSTART;VALUE=DATE:20260504
DTEND;VALUE=DATE:20260512
DTSTAMP:20260422T110406
CREATED:20260208T112505Z
LAST-MODIFIED:20260209T170006Z
UID:10346-1777852800-1778543999@www.pk-radnicki.rs
SUMMARY:ОД ЦРВЕНОГ ГРАДА ДО ВРХОВА АТЛАСА
DESCRIPTION:  \nЏебел Тубкал (Атлас)\, иако виши од 4.000 м н.в.\, не спада у технички изразито захтевне врхове. Свако ко има основно планинарско искуство може га успешно попети\, уз одговарајућу припрему\, постепен приступ и доследност током тренинга. \nЗахтеви у погледу опреме нису на нивоу експедиција као што су Килиманџаро или Арарат\, што Тубкал чини одличним избором за оне који први пут прелазе границу од 4.000 метара надморске висине\, али и оне који само желе нову авантуру и да уживају у новим погледима. У том смислу\, тешко је пронаћи лакшу и приступачнију опцију у тој висинској категорији. \nКао и увек\, поред важећег ПСС планинарског осигурања и уредне чланарине\, препоручујемо додатно словеначко планинарско осигурање – А категорије\, које пружа ширу покривеност у иностранству. \nУчешће на тури подразумева обавезно претходно упознавање чланова у планини\, као и одлазак на неколико заједничких тура\, ради провере кондиције\, уиграности и безбедности целе групе. Група је иначе већ формирана и иде се сигурно. Додатне пријаве су могуће до 15. марта најкасније. \nВише информација о локацији и самом успону можете пронаћи на следећем линку:👉 https://www.muchbetteradventures.com/magazine/climb-mount-toubkal/ \n  \n\n					\n						\n\n					\n				\n					\n						\n\n					\n				\nОрганизатор путовања: Марко Николић – телефон 063 867 0711 – itsmarkonikolic@gmail.com \nЦена: На упит \nПлаћање на лицу места. \nУ цену је укључено: \n• Приватни превоз и аеродромски трансфери (Mercedes Sprinter) на свим релацијама (возач говори енглески)• Смештај: 7 ноћења (двокреветне и трокреветне собе у хотелима\, dormio style у дому у планини)• 7 доручака\, 3 вечере (3\, 4. и 5. дан)\, 2 ручка (Имлил и дом)• Локални водичи и мазге• Ангажовање локалне агенције у комплетној организацији активности \nУ цену није укључено: \n• Ручкови и вечере ван програма• Пиће• Улазнице за знаменитости (32 € – споменици у Маракешу)• Напојнице• Авионска карта и лична планинарска опрема \n\n\nЗа више информација писати на e-mail: itsmarkonikolic@gmail.com или WhatsApp: +381 63 867 0711 – Марко Николић \n\n\n					\n						\n\n					\n				\n					\n						\n\n					\n				\nПрограм\n\nЛет: Lufthansa / Discover AirlinesПолазак: 4. мај у 6:15 ујутру из Београда преко МинхенаПовратак: 11. маја у 14:20 из Маракеша\, долазак у Београд у 23:25 \n8 дана / 7 ноћиМаракеш – Имлил – Џебел Тубкал – Маракеш \n1. дан – Долазак у Маракеш• Дочек на аеродрому у Маракешу и трансфер до хотела• Ноћење у Маракешу – Riad & Spa Bahia Salam \n2. дан – Разгледање Маракеша• Доручак у хотелу• Организовани обилазак града са водичем (09:00–16:30)• Обилазак: Башта Мажорел\, Палата Бахија\, Медерса Бен Јусеф\, џамија Кутубија\, трг Џема ел Фна\, стара Медина и сук• Ноћење у Маракешу – Riad & Spa Bahia Salam \n3. дан – Маракеш – Имлил (1.740 м)• Доручак у ријаду• Трансфер у 15:00 из Маракеша до села Имлил• Сусрет са локалним планинарским водичем и договор око детаља успона• Вечера и ноћење у Имлилу – Riad Oussagou \n4. дан – Имлил – Планинарски дом Тубкал• Доручак у хотелу• Успон ка планинарском дому• Пикник ручак током успона• Вечера и ноћење – Refuge du Toubkal CAF (3.200 м н.в.) \n5. дан – Успон на Џебел Тубкал (4.167 м) – Повратак у Маракеш• Доручак у планинарском дому• Успон на врх Џебел Тубкал• Повратак\, ручак у планинарском дому и трансфер у Маракеш• Вечера и ноћење – Riad & Spa Bahia Salam \n6. дан – Слободан дан у Маракешу• Доручак у хотелу• Слободан дан• Опције: Есауира или пустиња Агафај (camel ride + rocky desert)• Ноћење – Riad & Spa Bahia Salam \n7. дан – Повратак• Доручак• Трансфер на аеродроме \n8. дан – Резервни дан• У случају лошег времена на планини• Евентуалних проблема са авио трансферима \n\n					\n						\n\n					\n				\n					\n						\n\n					\n				\nУчесници акције планинаре на сопствену одговорност\, уз дужно придржавање Правилника о безбедном извођењу планинарских активности Планинарског Савеза Србије: https://www.pk-radnicki.rs/wp-content/uploads/2024/12/P120-Prvilnik-o-bezbednom-izvodjenju-pl.-aktivnosti-16.11.2023.pdf \nНапомињемо да према Закону о туризму (члан 86\, став 4) за путовање није обезбеђена заштита у погледу гаранција путовања. \n\n*Водич задржава право измене плана услед непредвиђених околности. \n 
URL:https://www.pk-radnicki.rs/destinacija/atlas/
LOCATION:Високи Атлас\, Мароко
CATEGORIES:ВА-Високогорска акција
ATTACH;FMTTYPE=image/jpeg:https://www.pk-radnicki.rs/wp-content/uploads/2026/02/Atlas-2.jpeg
ORGANIZER;CN="%D0%9C%D0%B0%D1%80%D0%BA%D0%BE %D0%9D%D0%B8%D0%BA%D0%BE%D0%BB%D0%B8%D1%9B":MAILTO:itsmarkonikolic@gmail.com
END:VEVENT
BEGIN:VEVENT
DTSTART;VALUE=DATE:20260515
DTEND;VALUE=DATE:20260518
DTSTAMP:20260422T110406
CREATED:20260316T191740Z
LAST-MODIFIED:20260316T191904Z
UID:10411-1778803200-1779062399@www.pk-radnicki.rs
SUMMARY:РАЈСКА СТАЗА-ПРОКЛЕТИЈЕ-Т-П-В
DESCRIPTION:  \nПостоје планине које освојиш… и постоје планине које освоје тебе. Проклетије спадају у ову другу групу – дивље\, поносне и величанствене\, као да су израсле из неке старе епске песме. \nВодимо вас на једну од најлепших гребенских авантура на Балкану – ми смо је назвали „Рајска стаза“\, јер то својом лепотом и заслужује. Она повезује три чувена врха изнад долине Грбаје: Попадију\, Талијанку и Волушницу. Стаза нас води прво кроз шуму\, а затим преко травнатих цветних ливада и камених видиковаца. Биће тренутака када ће ноге питати „зашто“\, али ће поглед са врхова одговорити „зато“. Нестварни видици који се пружају на све стране док ходамо гребеном оставиће нас без даха. \nКруна свега је Волушница\, која стоји као краљевски балкон изнад долине Грбаје\, са најлепшим погледом на Каранфиле\, Копље\, Северни врх\, Тројан\, Очњак… Када ове врхове гледамо из долине\, чине нам се недостижни\, али нису врхови високи\, него је човек мали кад не крене. \nСтаза је разноврсна\, панорамска и изузетно фотогенична\, па није случајно добила име Рајска. На тренутке ћете имати осећај да ходате између неба и земље\, док се испод вас простиру дубоке долине\, а свуда у видокругу стоје камени торњеви Проклетија. \nКако кажу стари планинари: „Ко једном посети Проклетије\, увек им се враћа.“ \nСпакујте ранац\, понесите добру вољу и придружите нам се на стази где сваки корак отвара нови поглед\, а сваки врх нову причу. \nДобродошли на Рајску стазу Проклетија! \n\n					\n						\n\n					\n				\n					\n						\n\n					\n				\nВодичи: \nМарија Живковић (МБ 1001) – телефон 064 2670876 – marijaplaninarka@gmail.com \nНенад Живковић (МБ 1002) – телефон 064 3018030 – pepizivkovic84@gmail.com \nЦена превоза:  7.000 динара \n(обухвата превоз изнајмљеним возилом са путаринама\, смештај и оброке за возача) \n* у случају драстичне промене цене горива на тржишту\, доћиће до корекције цене \nЦена ноћења: 10 евра за чланове клуба Раднички и 12\,5 евра за све остале (имамо 2 ноћења). \nУлазница у национални парк : 3 евра дневна улазница; 13\,5 евра годишња за све националне паркове у Црној Гори. \n\n\nДокумента: чланска картица са маркицом за текућу 2026. годину\, пасош или лична карта и здравствена књижица. \nОпрема: планинарски ранац\, слојевита одећа\, дубоке ципеле\, кабаница\, резервна преобука (остаје у аутобусу)\, батеријска лампа и резервне батерије\, штапови за ходање ако их имате\, магнезијум директ\, капа-шешир\, прва помоћ… \nХрана и вода: минимум 2 литра воде\, сендвичи\, свеже воће\, суво воће\, нека чоколадица. \nПријаве и инфо код водича. Учешће се потврђује уплатом укупног износа на рачун клуба за који ћете добити фискални рачун. Инструкције за уплату ћете добити од водича\, након што вам потврди да има места за акцију.  Такође\, уплате се могу извршити и на редовним састанцима клуба четвртком од 19 часова (Ђурићева 3а). У случају одустајања наћи замену јер се новац не враћа. \n\n\n					\n						\n\n					\n				\n					\n						\n\n					\n				\nПрограм\nПолазак у петак\, 15. маја у 15:00 са паркинга код Сава центра. \nПланирано време доласка у Грбају је око поноћи. \n\nСубота\, 16.05 \nПолазак на стазу је у 6:00 часова. Стаза је дуга око 14 километара\, са укупним успоном од 1000 метара. Крећемо се шумским путем кроз букову и храстову шуму\, јасно обележеном маркацијама. Стаза није технички захтевна\, али захтева добру физичку кондицију. \nНакон отприлике сат и по хода кроз шуму\, излазимо на чистину где нам се отвара поглед према врховима које ћемо освојити. Направићемо паузу\, а како је мај месец када бујају потоци и водопади\, имаћемо прилику да се напијемо изворске воде и опијемо мирисима које нам пружају Проклетије. На овом месту се налази раскрсница: лево се иде ка Волушници\, а десно ка Талијанки. \nНастављамо даље поред водопада кроз шуму до превоја Ћафа. Ту ћемо направити паузу и уживати у погледу на прелепи гребен и врх Тројан. \nОд превоја стаза иде нешто стрмије гребеном све до врха Талијанка\, а затим настављамо даље гребеном до врха Попадија. Све време се крећемо граничном линијом између Црне Горе и Албаније. \nСледећи је врх Волушница\, са којег се пружа нестваран поглед на Каранфиле\, Северни врх\, Копље\, Очњак и долину Грбаје. Након паузе на овом врху\, спуштамо се до раскрснице и поново улазимо на стазу кроз шуму којом смо и дошли. \nПланирани повратак у дом је око 15:00 часова. \nНедеља\, 17.05 \nКада средимо дом крећемо за Београд али прво ћемо да обиђемо Али-Пашине изворе\, и долину Ропојане\, водопад Грље и извор реке Грље\, врело Савино око. \nПолазак за Београд из долине је око 10:00 а планирани долазак у Београд је око 20:00 часова. \n\n					\n						\n\n					\n				\n					\n						\n\n					\n				\nУчесници акције планинаре на сопствену одговорност\, уз дужно придржавање Правилника о безбедном извођењу планинарских активности Планинарског Савеза Србије: https://www.pk-radnicki.rs/wp-content/uploads/2024/12/P120-Prvilnik-o-bezbednom-izvodjenju-pl.-aktivnosti-16.11.2023.pdf \nНапомињемо да према Закону о туризму (члан 86\, став 4) за путовање није обезбеђена заштита у погледу гаранција путовања. \n\n*Водич задржава право измене плана услед непредвиђених околности. \n 
URL:https://www.pk-radnicki.rs/destinacija/prokletije-4/
LOCATION:Грбаја\, Проклетије\, Crna Gora
CATEGORIES:ВА-Високогорска акција,ПА-планинарска Акција,Пешачење
ATTACH;FMTTYPE=image/jpeg:https://www.pk-radnicki.rs/wp-content/uploads/2026/03/naslovna-nasi-klinci-planinci.jpg
ORGANIZER;CN="%D0%9C%D0%B0%D1%80%D0%B8%D1%98%D0%B0 %D0%96%D0%B8%D0%B2%D0%BA%D0%BE%D0%B2%D0%B8%D1%9B (%D0%9C%D0%91 1001)":MAILTO:marijaplaninarka@gmail.com
END:VEVENT
END:VCALENDAR