BEGIN:VCALENDAR
VERSION:2.0
PRODID:-//Планинарски клуб Раднички - ECPv6.15.15//NONSGML v1.0//EN
CALSCALE:GREGORIAN
METHOD:PUBLISH
X-WR-CALNAME:Планинарски клуб Раднички
X-ORIGINAL-URL:https://www.pk-radnicki.rs
X-WR-CALDESC:Events for Планинарски клуб Раднички
REFRESH-INTERVAL;VALUE=DURATION:PT1H
X-Robots-Tag:noindex
X-PUBLISHED-TTL:PT1H
BEGIN:VTIMEZONE
TZID:UTC
BEGIN:STANDARD
TZOFFSETFROM:+0000
TZOFFSETTO:+0000
TZNAME:UTC
DTSTART:20160101T000000
END:STANDARD
END:VTIMEZONE
BEGIN:VEVENT
DTSTART;VALUE=DATE:20170428
DTEND;VALUE=DATE:20170502
DTSTAMP:20260422T152227
CREATED:20170328T101805Z
LAST-MODIFIED:20170330T145848Z
UID:2433-1493337600-1493683199@www.pk-radnicki.rs
SUMMARY:КЛИНЦИ ПЛАНИНЦИ — Пирин (Бугарска)
DESCRIPTION:Планина ПИРИН (Бугарска) — Вихрен 2914м\, Безбог 2645м — 28.април-1.мај 2017.\nАкција за најспремније Клинце планинце и одрасле који могу да их прате \nПетак 28. април: Полазак из Београда у 23:00 са паркинга у Скерлићевој улици. Ноћна вожња са успутним паузама на релацији: Ниш\, Димитровград\, Софија\, Благоевград\, Банско. \nСубота 29. април: Долазак у Банско у раним јутарњим сатима и наставак пута до места Добриниште до планинарског дома Гоце Делчев 1485м одакле се превозимо жичаром до планинарског дома Безбог на 2.220м\, пауза за доручак и припрема за успон. \nПолазак на успон поред језера према врху Безбог 2.645м\, успон са успутним паузама и показним вежбама коришћења техничке опреме траје до 3 сата. После паузе на врху силазак истом стазом и жичаром до превоза и повратак у Банско. Смештај у хотелу\, вечера и дружење. \n\n\n \nНедеља 30. април: Устајање у 6:00 и после доручка полазак превозом до план.дома Бандерица и даље стазом до планинарског дома Вихрен на 1.950м одакле крећемо на успон према највишем врху планине Пирин – Вихрен 2.914м (трећи врх по висини на Балкану)\, успон траје око 5 сати. После паузе на врху одакле се пружа фантастичан поглед на читав масив Пирина и околне врхове: Тодорка\, Бански суходол\, Кутело\, Каменица…повратак истом стазом до планинарског дома Вихрен и даље до превоза\, повратак у хотел. Вечера и дружење у неком од етно ресторана у Банском. \nПонедељак 1.мај: После дужег јутарњег одмора и доручка око 12:00 полазак из хотела\, успутне паузе за обилазак Рилског манастира или Софије и повратак за Београд\, где стижемо око 21:00. \nУ случају лоших временских услова на терену и безбедносне процене\, могућа је промена плана. \nДокумента: Пасош и планинарска књижица са плаћеном чланарином за 2017.год. \nНапомена! За малолелетна лица која путују без оба родитеља обавезна је сагласност за путовање у иностранство. \nОпрема: зимске планинарске ципеле\, јакна\, капа\, рукавице\, камашне\, наочаре и крема са заштитним фактором… \nТехничка опрема: цепин\, дерезе\, појас\, прусици\, карабинери. \nХрана: из ранца уз могућност организовања заједничких оброка у ресторанима у Банском. \nЦена акције: 90\,00 EUR (превоз на наведеној релацији\, смештај у хотелу – 2 ноћи (двокреветне собе)\, путно здравствено осигурање\, путарине\, смештај и исхрана возача) \nПријаве уз уплату аконтације од 50\,00 EUR најкасније до 20.04. У случају одустајања потребно је наћи замену иначе се аконтација не враћа. \nПријаве\, уплате и све додатне информације код водича или на редовним састанцима у просторијама ПК Раднички четврком од 19:00 у ул.Војводе Шупљикца 31\, Београд
URL:https://www.pk-radnicki.rs/destinacija/klinci-planinci-pirin-bugarska/
LOCATION:Пирин\, Србија
CATEGORIES:ВА-Високогорска акција
ATTACH;FMTTYPE=image/jpeg:https://www.pk-radnicki.rs/wp-content/uploads/2017/03/Pirin_Bezbog.jpg
END:VEVENT
BEGIN:VEVENT
DTSTART;VALUE=DATE:20170331
DTEND;VALUE=DATE:20170403
DTSTAMP:20260422T152227
CREATED:20170316T163444Z
LAST-MODIFIED:20170328T120857Z
UID:2234-1490918400-1491177599@www.pk-radnicki.rs
SUMMARY:Шар планина – Љуботен (2499 мнв)
DESCRIPTION: \n\n31.03. (петак) – Полазак минибусом у 23:00 из Скерлићеве улице преко Скопља и Тетова. Успутне паузе. \n01.04. (субота) – Долазак у Старо Село (800м). Припрема и успон до смештаја (вила Љуботен) на 1600м. Ноћење. \n02.04. (недеља) – Устајање у 07:00. Полазак на успон у 07:30. Планирани излазак на Љуботен (2499м) у зависности од временских услова\, око 10:30.\nСилазак до дома\, паковање и повратак у Старо Село\, где нас чека минибус. Повратак за Београд уз кратке паузе . \nОпрема: Планинарске дубоке ципеле (обавезне)\, камашне\, мали ранац\, лампа\, штапови\, дерезе\, цепин.\nВреће за спавање\, лична апотека\, наочаре са УВ фактором\, заштитна крема за лице.\nГардероба за зимске услове: Gore-tex јакна\, термо јакна (полар)\, панталоне\, капа\, подкапа\, рукавице – 2 пара\, резервне чарапе. \nДокумента: Пасош\, планинарска књижица са плаћеном чланарином. \nХрана: Из ранца (У „Вили Љуботен“ пружају услуге хране и пића). \nЦена: 60 евра (превоз и смештај) + 300\,00 дин. за путно – здравствено осигурање. \nПријава уз аконтацију од 40 евра\, у просторијама Клуба или код водича. \nУ случају одустајања потребно је наћи замену\, у супротном аконтација се задржава. \nВодич: Александар Тијанић
URL:https://www.pk-radnicki.rs/destinacija/sar-planina-ljuboten-2499-mnv/
LOCATION:Шар планина\, Srbija
CATEGORIES:ВА-Високогорска акција
ATTACH;FMTTYPE=image/jpeg:https://www.pk-radnicki.rs/wp-content/uploads/2017/03/unnamed1.jpg
END:VEVENT
BEGIN:VEVENT
DTSTART;TZID=UTC:20170217T080000
DTEND;TZID=UTC:20170219T170000
DTSTAMP:20260422T152227
CREATED:20170225T100330Z
LAST-MODIFIED:20170225T100331Z
UID:1972-1487318400-1487523600@www.pk-radnicki.rs
SUMMARY:Шар планина
DESCRIPTION:ВРХ: Љуботен (2499м) \nВОДИЧ:  Александар Тијанић
URL:https://www.pk-radnicki.rs/destinacija/sar-planina/
LOCATION:Шар планина\, Srbija
CATEGORIES:ВА-Високогорска акција
ATTACH;FMTTYPE=image/jpeg:https://www.pk-radnicki.rs/wp-content/uploads/2017/02/Titov_vrv_a_Turcin1.jpg
END:VEVENT
BEGIN:VEVENT
DTSTART;TZID=UTC:20170210T080000
DTEND;TZID=UTC:20170212T170000
DTSTAMP:20260422T152227
CREATED:20170225T094205Z
LAST-MODIFIED:20170225T094956Z
UID:1962-1486713600-1486918800@www.pk-radnicki.rs
SUMMARY:Прењ
DESCRIPTION:ВРХ: Лупоглав (2102м) \nВОДИЧ: Александар Тијанић
URL:https://www.pk-radnicki.rs/destinacija/prenj/
LOCATION:Прењ\, Srbija
CATEGORIES:ВА-Високогорска акција
ATTACH;FMTTYPE=image/jpeg:https://www.pk-radnicki.rs/wp-content/uploads/2017/02/78121.jpg
END:VEVENT
BEGIN:VEVENT
DTSTART;TZID=UTC:20170127T080000
DTEND;TZID=UTC:20170129T170000
DTSTAMP:20260422T152227
CREATED:20170225T093916Z
LAST-MODIFIED:20170225T093916Z
UID:1958-1485504000-1485709200@www.pk-radnicki.rs
SUMMARY:Рила
DESCRIPTION:ВРХ: Мусала (2925м) \nВОДИЧ: Александар Тијанић
URL:https://www.pk-radnicki.rs/destinacija/rila/
LOCATION:Рила\, Srbija
CATEGORIES:ВА-Високогорска акција
ATTACH;FMTTYPE=image/jpeg:https://www.pk-radnicki.rs/wp-content/uploads/2017/02/rila.jpg
END:VEVENT
END:VCALENDAR